BEGIN:VCALENDAR
VERSION:2.0
PRODID:-//PARTAGEN92 - ECPv5.9.1//NONSGML v1.0//EN
CALSCALE:GREGORIAN
METHOD:PUBLISH
X-WR-CALNAME:PARTAGEN92
X-ORIGINAL-URL:http://partagen92.fr
X-WR-CALDESC:évènements pour PARTAGEN92
BEGIN:VTIMEZONE
TZID:UTC
BEGIN:STANDARD
TZOFFSETFROM:+0000
TZOFFSETTO:+0000
TZNAME:UTC
DTSTART:20190101T000000
END:STANDARD
END:VTIMEZONE
BEGIN:VEVENT
DTSTART;TZID=UTC:20190928T090000
DTEND;TZID=UTC:20190928T180000
DTSTAMP:20260421T145815
CREATED:20190617T112848Z
LAST-MODIFIED:20190912T103312Z
UID:342-1569661200-1569693600@partagen92.fr
SUMMARY:Brocante Parc des Sévines
DESCRIPTION:Brocante 250 exposants \nVenez nombreux pour visiter notre stands et prendre une tasse de thé pour soutenir les activitées de notre associations
URL:http://partagen92.fr/event/brocante-des-sevines
LOCATION:Parc des Sevines\, 282 Avenue Laurent Cély\, Gennevilliers\, 92230\, France
ATTACH;FMTTYPE=image/jpeg:http://partagen92.fr/wp-content/uploads/2019/06/Brocante-OTSI-24sept2016-14.jpg
END:VEVENT
END:VCALENDAR